BEGIN:VCALENDAR
VERSION:2.0
PRODID:-//KDP DONAT - ECPv5.9.0//NONSGML v1.0//EN
CALSCALE:GREGORIAN
METHOD:PUBLISH
X-WR-CALNAME:KDP DONAT
X-ORIGINAL-URL:https://kdpdonat.hr
X-WR-CALDESC:Događaji za KDP DONAT
BEGIN:VTIMEZONE
TZID:Europe/Paris
BEGIN:DAYLIGHT
TZOFFSETFROM:+0100
TZOFFSETTO:+0200
TZNAME:CEST
DTSTART:20220327T010000
END:DAYLIGHT
BEGIN:STANDARD
TZOFFSETFROM:+0200
TZOFFSETTO:+0100
TZNAME:CET
DTSTART:20221030T010000
END:STANDARD
END:VTIMEZONE
BEGIN:VEVENT
DTSTART;VALUE=DATE:20220827
DTEND;VALUE=DATE:20220828
DTSTAMP:20260424T154831
CREATED:20220503T064903Z
LAST-MODIFIED:20220503T064903Z
UID:7254-1661558400-1661644799@kdpdonat.hr
SUMMARY:Cro Cup - 10. kolo\, Dubrovnik\, Danče\, 5000 m
DESCRIPTION:
URL:https://kdpdonat.hr/dogadaj/cro-cup-10-kolo-dubrovnik-dance-5000-m/
END:VEVENT
END:VCALENDAR