BEGIN:VCALENDAR
VERSION:2.0
PRODID:-//KDP DONAT - ECPv5.9.0//NONSGML v1.0//EN
CALSCALE:GREGORIAN
METHOD:PUBLISH
X-WR-CALNAME:KDP DONAT
X-ORIGINAL-URL:https://kdpdonat.hr
X-WR-CALDESC:Događaji za KDP DONAT
BEGIN:VTIMEZONE
TZID:Europe/Paris
BEGIN:DAYLIGHT
TZOFFSETFROM:+0100
TZOFFSETTO:+0200
TZNAME:CEST
DTSTART:20230326T010000
END:DAYLIGHT
BEGIN:STANDARD
TZOFFSETFROM:+0200
TZOFFSETTO:+0100
TZNAME:CET
DTSTART:20231029T010000
END:STANDARD
END:VTIMEZONE
BEGIN:VEVENT
DTSTART;VALUE=DATE:20230902
DTEND;VALUE=DATE:20230903
DTSTAMP:20260423T015644
CREATED:20230710T072958Z
LAST-MODIFIED:20230807T114743Z
UID:8648-1693612800-1693699199@kdpdonat.hr
SUMMARY:Silba\, DKDP\, 11. kolo\, CroCup\, 10. kolo\, 3000 m
DESCRIPTION:
URL:https://kdpdonat.hr/dogadaj/silba-dkdp-11-kolo-crocup-10-kolo-3000-m/
END:VEVENT
END:VCALENDAR