BEGIN:VCALENDAR
VERSION:2.0
PRODID:-//KDP DONAT - ECPv5.9.0//NONSGML v1.0//EN
CALSCALE:GREGORIAN
METHOD:PUBLISH
X-WR-CALNAME:KDP DONAT
X-ORIGINAL-URL:https://kdpdonat.hr
X-WR-CALDESC:Događaji za KDP DONAT
BEGIN:VTIMEZONE
TZID:Europe/Paris
BEGIN:DAYLIGHT
TZOFFSETFROM:+0100
TZOFFSETTO:+0200
TZNAME:CEST
DTSTART:20240331T010000
END:DAYLIGHT
BEGIN:STANDARD
TZOFFSETFROM:+0200
TZOFFSETTO:+0100
TZNAME:CET
DTSTART:20241027T010000
END:STANDARD
END:VTIMEZONE
BEGIN:VEVENT
DTSTART;VALUE=DATE:20240906
DTEND;VALUE=DATE:20240908
DTSTAMP:20260422T104148
CREATED:20240704T115258Z
LAST-MODIFIED:20240704T115258Z
UID:9109-1725580800-1725753599@kdpdonat.hr
SUMMARY:World Aquatics Junior\, Alghero (ITA)\, 3000 m
DESCRIPTION:
URL:https://kdpdonat.hr/dogadaj/world-aquatics-junior-alghero-ita-3000-m/
END:VEVENT
END:VCALENDAR