BEGIN:VCALENDAR
VERSION:2.0
PRODID:-//KDP DONAT - ECPv5.9.0//NONSGML v1.0//EN
CALSCALE:GREGORIAN
METHOD:PUBLISH
X-WR-CALNAME:KDP DONAT
X-ORIGINAL-URL:https://kdpdonat.hr
X-WR-CALDESC:Događaji za KDP DONAT
BEGIN:VTIMEZONE
TZID:Europe/Paris
BEGIN:DAYLIGHT
TZOFFSETFROM:+0100
TZOFFSETTO:+0200
TZNAME:CEST
DTSTART:20240331T010000
END:DAYLIGHT
BEGIN:STANDARD
TZOFFSETFROM:+0200
TZOFFSETTO:+0100
TZNAME:CET
DTSTART:20241027T010000
END:STANDARD
END:VTIMEZONE
BEGIN:VEVENT
DTSTART;VALUE=DATE:20240714
DTEND;VALUE=DATE:20240715
DTSTAMP:20260422T155711
CREATED:20240704T114742Z
LAST-MODIFIED:20240704T114742Z
UID:9075-1720915200-1721001599@kdpdonat.hr
SUMMARY:Zeleno jezero\, DKDP\, 7. kolo\, 3400 m
DESCRIPTION:
URL:https://kdpdonat.hr/dogadaj/zeleno-jezero-dkdp-7-kolo-3400-m/
END:VEVENT
END:VCALENDAR