BEGIN:VCALENDAR
VERSION:2.0
PRODID:-//KDP DONAT - ECPv5.9.0//NONSGML v1.0//EN
CALSCALE:GREGORIAN
METHOD:PUBLISH
X-WR-CALNAME:KDP DONAT
X-ORIGINAL-URL:https://kdpdonat.hr
X-WR-CALDESC:Događaji za KDP DONAT
BEGIN:VTIMEZONE
TZID:Europe/Paris
BEGIN:DAYLIGHT
TZOFFSETFROM:+0100
TZOFFSETTO:+0200
TZNAME:CEST
DTSTART:20220327T010000
END:DAYLIGHT
BEGIN:STANDARD
TZOFFSETFROM:+0200
TZOFFSETTO:+0100
TZNAME:CET
DTSTART:20221030T010000
END:STANDARD
END:VTIMEZONE
BEGIN:VEVENT
DTSTART;VALUE=DATE:20220611
DTEND;VALUE=DATE:20220612
DTSTAMP:20260426T044437
CREATED:20220503T065253Z
LAST-MODIFIED:20220503T065253Z
UID:7262-1654905600-1654991999@kdpdonat.hr
SUMMARY:Dalmatinski kup\, 1. kolo\, Baćinska jezera\, 2200 m
DESCRIPTION:
URL:https://kdpdonat.hr/dogadaj/dalmatinski-kup-1-kolo-bacinska-jezera-2200-m/
END:VEVENT
END:VCALENDAR