BEGIN:VCALENDAR
VERSION:2.0
PRODID:-//KDP DONAT - ECPv5.9.0//NONSGML v1.0//EN
CALSCALE:GREGORIAN
METHOD:PUBLISH
X-WR-CALNAME:KDP DONAT
X-ORIGINAL-URL:https://kdpdonat.hr
X-WR-CALDESC:Događaji za KDP DONAT
BEGIN:VTIMEZONE
TZID:Europe/Paris
BEGIN:DAYLIGHT
TZOFFSETFROM:+0100
TZOFFSETTO:+0200
TZNAME:CEST
DTSTART:20220327T010000
END:DAYLIGHT
BEGIN:STANDARD
TZOFFSETFROM:+0200
TZOFFSETTO:+0100
TZNAME:CET
DTSTART:20221030T010000
END:STANDARD
END:VTIMEZONE
BEGIN:VEVENT
DTSTART;VALUE=DATE:20220622
DTEND;VALUE=DATE:20220623
DTSTAMP:20260426T045142
CREATED:20220503T064236Z
LAST-MODIFIED:20220503T064401Z
UID:7237-1655856000-1655942399@kdpdonat.hr
SUMMARY:Cro Cup - 2. kolo\, Vinišće\, 3000 m
DESCRIPTION:
URL:https://kdpdonat.hr/dogadaj/cro-cup-2-kolo-vinisce-3000-m/
END:VEVENT
END:VCALENDAR