BEGIN:VCALENDAR
VERSION:2.0
PRODID:-//KDP DONAT - ECPv5.9.0//NONSGML v1.0//EN
CALSCALE:GREGORIAN
METHOD:PUBLISH
X-WR-CALNAME:KDP DONAT
X-ORIGINAL-URL:https://kdpdonat.hr
X-WR-CALDESC:Događaji za KDP DONAT
BEGIN:VTIMEZONE
TZID:Europe/Paris
BEGIN:DAYLIGHT
TZOFFSETFROM:+0100
TZOFFSETTO:+0200
TZNAME:CEST
DTSTART:20250330T010000
END:DAYLIGHT
BEGIN:STANDARD
TZOFFSETFROM:+0200
TZOFFSETTO:+0100
TZNAME:CET
DTSTART:20251026T010000
END:STANDARD
END:VTIMEZONE
BEGIN:VEVENT
DTSTART;VALUE=DATE:20250713
DTEND;VALUE=DATE:20250714
DTSTAMP:20260423T185801
CREATED:20250609T105858Z
LAST-MODIFIED:20250609T105858Z
UID:9484-1752364800-1752451199@kdpdonat.hr
SUMMARY:Zeleno Jezero\, DKDP\, 7. kolo\, 3300 m
DESCRIPTION:
URL:https://kdpdonat.hr/dogadaj/zeleno-jezero-dkdp-7-kolo-3300-m/
END:VEVENT
BEGIN:VEVENT
DTSTART;VALUE=DATE:20250713
DTEND;VALUE=DATE:20250714
DTSTAMP:20260423T185801
CREATED:20250609T105915Z
LAST-MODIFIED:20250705T202147Z
UID:9487-1752364800-1752451199@kdpdonat.hr
SUMMARY:Novigrad\, ZOWL\, 6. kolo\, 1500 m
DESCRIPTION:
URL:https://kdpdonat.hr/dogadaj/pridraga-zowl-6-kolo-1500-m/
END:VEVENT
END:VCALENDAR