BEGIN:VCALENDAR
VERSION:2.0
PRODID:-//KDP DONAT - ECPv5.9.0//NONSGML v1.0//EN
CALSCALE:GREGORIAN
METHOD:PUBLISH
X-WR-CALNAME:KDP DONAT
X-ORIGINAL-URL:https://kdpdonat.hr
X-WR-CALDESC:Događaji za KDP DONAT
BEGIN:VTIMEZONE
TZID:Europe/Paris
BEGIN:DAYLIGHT
TZOFFSETFROM:+0100
TZOFFSETTO:+0200
TZNAME:CEST
DTSTART:20250330T010000
END:DAYLIGHT
BEGIN:STANDARD
TZOFFSETFROM:+0200
TZOFFSETTO:+0100
TZNAME:CET
DTSTART:20251026T010000
END:STANDARD
END:VTIMEZONE
BEGIN:VEVENT
DTSTART;VALUE=DATE:20250823
DTEND;VALUE=DATE:20250824
DTSTAMP:20260421T205206
CREATED:20250609T110306Z
LAST-MODIFIED:20250609T110306Z
UID:9511-1755907200-1755993599@kdpdonat.hr
SUMMARY:Omiš\, CroCup\, 5. kolo\, 10000/4000* m
DESCRIPTION:
URL:https://kdpdonat.hr/dogadaj/omis-crocup-5-kolo-10000-4000-m/
END:VEVENT
END:VCALENDAR